BEGIN:VCALENDAR
VERSION:2.0
PRODID:-//GRÜNE Oberbipp - ECPv6.15.15//NONSGML v1.0//EN
CALSCALE:GREGORIAN
METHOD:PUBLISH
X-WR-CALNAME:GRÜNE Oberbipp
X-ORIGINAL-URL:https://gruene-oberbipp.ch
X-WR-CALDESC:Veranstaltungen für GRÜNE Oberbipp
REFRESH-INTERVAL;VALUE=DURATION:PT1H
X-Robots-Tag:noindex
X-PUBLISHED-TTL:PT1H
BEGIN:VTIMEZONE
TZID:Europe/Zurich
BEGIN:DAYLIGHT
TZOFFSETFROM:+0100
TZOFFSETTO:+0200
TZNAME:CEST
DTSTART:20220327T010000
END:DAYLIGHT
BEGIN:STANDARD
TZOFFSETFROM:+0200
TZOFFSETTO:+0100
TZNAME:CET
DTSTART:20221030T010000
END:STANDARD
BEGIN:DAYLIGHT
TZOFFSETFROM:+0100
TZOFFSETTO:+0200
TZNAME:CEST
DTSTART:20230326T010000
END:DAYLIGHT
BEGIN:STANDARD
TZOFFSETFROM:+0200
TZOFFSETTO:+0100
TZNAME:CET
DTSTART:20231029T010000
END:STANDARD
BEGIN:DAYLIGHT
TZOFFSETFROM:+0100
TZOFFSETTO:+0200
TZNAME:CEST
DTSTART:20240331T010000
END:DAYLIGHT
BEGIN:STANDARD
TZOFFSETFROM:+0200
TZOFFSETTO:+0100
TZNAME:CET
DTSTART:20241027T010000
END:STANDARD
END:VTIMEZONE
BEGIN:VEVENT
DTSTART;TZID=Europe/Zurich:20231213T180000
DTEND;TZID=Europe/Zurich:20231213T193000
DTSTAMP:20260420T170905
CREATED:20221110T080928Z
LAST-MODIFIED:20221110T081031Z
UID:4959-1702490400-1702495800@gruene-oberbipp.ch
SUMMARY:Vorstandssitzung GRÜNE Oberbipp
DESCRIPTION:
URL:https://gruene-oberbipp.ch/event/vorstandssitzung-2023-12
LOCATION:Sekretariat Grüne Oberbipp\, Schweiz
CATEGORIES:Vorstandsitzung
END:VEVENT
END:VCALENDAR